BEGIN:VCALENDAR
VERSION:2.0
PRODID:-//wp-events-plugin.com//7.2.3.1//EN
TZID:Europe/London
X-WR-TIMEZONE:Europe/London
BEGIN:VEVENT
UID:616@priorysc.org.uk
DTSTART;TZID=Europe/London:20261114T093000
DTEND;TZID=Europe/London:20261114T160000
DTSTAMP:20260128T202525Z
URL:https://priorysc.org.uk/events/autumn-working-party/
SUMMARY:Autumn Working Party
DESCRIPTION:The final Working Party of the year. These working parties offe
 r members and their families the chance to work together to ‘tidy up’ 
 at the club before winter sets in. Today the focus will be on the building
 \, the site and our boats.
LOCATION:Priory Sailing Club\, Priory Country Park\, Barkers Lane\, Bedford
 \, Bedfordshire\, MK41 9DJ\, United Kingdom
X-APPLE-STRUCTURED-LOCATION;VALUE=URI;X-ADDRESS=Priory Country Park\, Barke
 rs Lane\, Bedford\, Bedfordshire\, MK41 9DJ\, United Kingdom;X-APPLE-RADIU
 S=100;X-TITLE=Priory Sailing Club:geo:0,0
END:VEVENT
BEGIN:VTIMEZONE
TZID:Europe/London
X-LIC-LOCATION:Europe/London
BEGIN:STANDARD
DTSTART:20261025T010000
TZOFFSETFROM:+0100
TZOFFSETTO:+0000
TZNAME:GMT
END:STANDARD
END:VTIMEZONE
END:VCALENDAR